BEGIN:VCALENDAR
VERSION:2.0
PRODID:-//ExhibitionMatches.com//NONSGML v1.0//EN
BEGIN:VEVENT
UID=FBF2DD9C-EA2E-286B-A5566F6AC7C33FF6
DTSTAMP=20260421T202613Z
DTSTART;VALUE=DATE:20260503
DTEND;VALUE=DATE:20260504
SUMMARY:Powered by Heart Peewee Tournament
LOCATION:Coal Ridge High School, 35947 U.S. 6, New Castle, CO, 81647
DESCRIPTION:View full event details: https://wrestlingtournaments.org/view.cfm?ID=107179

URL;VALUE=URI:https://wrestlingtournaments.org/view.cfm?ID=107179
END:VEVENT
END:VCALENDAR