BEGIN:VCALENDAR
VERSION:2.0
PRODID:-//ExhibitionMatches.com//NONSGML v1.0//EN
BEGIN:VEVENT
UID=FBE63687-B3FC-2B37-289797254DB5C356
DTSTAMP=20260421T202450Z
DTSTART;VALUE=DATE:20260430
DTEND;VALUE=DATE:20260506
SUMMARY:2026 WFS U17/U20 May Camp
LOCATION:U.S. Olympic &amp; Paralympic Training Center, One Olympic Plaza, Colorado Springs, CO, 80918
DESCRIPTION:View full event details: https://wrestlingtournaments.org/view.cfm?ID=107153
Contact: Jessica Medina jmedina@usawrestling.org
URL;VALUE=URI:https://wrestlingtournaments.org/view.cfm?ID=107153
END:VEVENT
END:VCALENDAR